BEGIN:VCALENDAR
VERSION:2.0
PRODID:-//Town of Lynnfield Golf - ECPv6.15.7//NONSGML v1.0//EN
CALSCALE:GREGORIAN
METHOD:PUBLISH
X-WR-CALNAME:Town of Lynnfield Golf
X-ORIGINAL-URL:https://lynnfieldgolf.net
X-WR-CALDESC:Events for Town of Lynnfield Golf
REFRESH-INTERVAL;VALUE=DURATION:PT1H
X-Robots-Tag:noindex
X-PUBLISHED-TTL:PT1H
BEGIN:VTIMEZONE
TZID:UTC
BEGIN:STANDARD
TZOFFSETFROM:+0000
TZOFFSETTO:+0000
TZNAME:UTC
DTSTART:20250101T000000
END:STANDARD
END:VTIMEZONE
BEGIN:VEVENT
DTSTART;TZID=UTC:20260327T090000
DTEND;TZID=UTC:20260327T090000
DTSTAMP:20260421T111423
CREATED:20260324T161658Z
LAST-MODIFIED:20260324T161659Z
UID:3539-1774602000-1774602000@lynnfieldgolf.net
SUMMARY:Opening Day
DESCRIPTION:
URL:https://lynnfieldgolf.net/event/opening-day-2/
END:VEVENT
END:VCALENDAR